View In:
ArcGIS JavaScript
ArcGIS Online Map Viewer
ArcGIS Earth
Service Description: RASTRAS/1934_RASTRAS
Name: RASTRAS/1934_RASTRAS
Description:
Single Fused Map Cache: false
Extent:
XMin: 519972.7847611214
YMin: 6175007.911818204
XMax: 524975.9542658259
YMax: 6181290.354746985
Spatial Reference: 2600
(3346)
LatestVCSWkid(0)
Initial Extent:
XMin: 519972.7847611214
YMin: 6175007.911818204
XMax: 524975.9542658259
YMax: 6181290.354746985
Spatial Reference: 2600
(3346)
LatestVCSWkid(0)
Full Extent:
XMin: 519972.7847611214
YMin: 6175007.911818204
XMax: 524975.9542658259
YMax: 6181290.354746985
Spatial Reference: 2600
(3346)
LatestVCSWkid(0)
Pixel Size X: 0.10590511630973574
Pixel Size Y: 0.1063865159903951
Band Count: 3
Pixel Type: U8
RasterFunction Infos: {"rasterFunctionInfos": [{
"name": "None",
"description": "",
"help": ""
}]}
Mensuration Capabilities: Basic
Inspection Capabilities:
Has Histograms: true
Has Colormap: false
Has Multi Dimensions : false
Rendering Rule:
Min Scale: 0
Max Scale: 0
Copyright Text:
Service Data Type: esriImageServiceDataTypeRGB
Min Values: 0, 0, 0
Max Values: 255, 255, 255
Mean Values: 248.64332212852298, 246.6137646892609, 244.08587338395873
Standard Deviation Values: 26.496555571852625, 30.89687986044209, 35.52902182907691
Object ID Field:
Fields:
None
Default Mosaic Method: Center
Allowed Mosaic Methods:
SortField:
SortValue: null
Mosaic Operator: First
Default Compression Quality: 75
Default Resampling Method: Bilinear
Max Record Count: null
Max Image Height: 4100
Max Image Width: 15000
Max Download Image Count: null
Max Mosaic Image Count: null
Allow Raster Function: true
Allow Copy: true
Allow Analysis: true
Allow Compute TiePoints: false
Supports Statistics: false
Supports Advanced Queries: false
Use StandardizedQueries: true
Raster Type Infos:
Name: Raster Dataset
Description: Supports all ArcGIS Raster Datasets
Help:
Has Raster Attribute Table: false
Edit Fields Info: null
Ownership Based AccessControl For Rasters: null
Child Resources:
Info
Histograms
Statistics
Key Properties
Legend
Raster Function Infos
Supported Operations:
Export Image
Identify
Measure
Compute Histograms
Compute Statistics Histograms
Get Samples
Compute Class Statistics
Query Boundary
Compute Pixel Location
Compute Angles
Validate
Project