View In:
ArcGIS JavaScript
ArcGIS Online Map Viewer
ArcGIS Earth
Service Description: RASTRAS/194x_Aerofoto
Name: RASTRAS/194x_Aerofoto
Description:
Single Fused Map Cache: false
Extent:
XMin: 521127.35349418566
YMin: 6175102.736691237
XMax: 524230.1315396618
YMax: 6179456.161679394
Spatial Reference: 2600
(3346)
LatestVCSWkid(0)
Initial Extent:
XMin: 521127.35349418566
YMin: 6175102.736691237
XMax: 524230.1315396618
YMax: 6179456.161679394
Spatial Reference: 2600
(3346)
LatestVCSWkid(0)
Full Extent:
XMin: 521127.35349418566
YMin: 6175102.736691237
XMax: 524230.1315396618
YMax: 6179456.161679394
Spatial Reference: 2600
(3346)
LatestVCSWkid(0)
Pixel Size X: 0.7335172684340717
Pixel Size Y: 0.7335172684340665
Band Count: 1
Pixel Type: U8
RasterFunction Infos: {"rasterFunctionInfos": [{
"name": "None",
"description": "",
"help": ""
}]}
Mensuration Capabilities: Basic
Inspection Capabilities:
Has Histograms: true
Has Colormap: false
Has Multi Dimensions : false
Rendering Rule:
Min Scale: 0
Max Scale: 0
Copyright Text:
Service Data Type: esriImageServiceDataTypeGeneric
Min Values: 0
Max Values: 255
Mean Values: 76.03989135405648
Standard Deviation Values: 46.44409681575869
Object ID Field:
Fields:
None
Default Mosaic Method: Center
Allowed Mosaic Methods:
SortField:
SortValue: null
Mosaic Operator: First
Default Compression Quality: 75
Default Resampling Method: Bilinear
Max Record Count: null
Max Image Height: 4100
Max Image Width: 15000
Max Download Image Count: null
Max Mosaic Image Count: null
Allow Raster Function: true
Allow Copy: true
Allow Analysis: true
Allow Compute TiePoints: false
Supports Statistics: false
Supports Advanced Queries: false
Use StandardizedQueries: true
Raster Type Infos:
Name: Raster Dataset
Description: Supports all ArcGIS Raster Datasets
Help:
Has Raster Attribute Table: false
Edit Fields Info: null
Ownership Based AccessControl For Rasters: null
Child Resources:
Info
Histograms
Statistics
Key Properties
Legend
Raster Function Infos
Supported Operations:
Export Image
Identify
Measure
Compute Histograms
Compute Statistics Histograms
Get Samples
Compute Class Statistics
Query Boundary
Compute Pixel Location
Compute Angles
Validate
Project