{
 "currentVersion": 10.31,
 "serviceDescription": "Transport_network",
 "mapName": "Layers",
 "description": "",
 "copyrightText": "",
 "supportsDynamicLayers": false,
 "layers": [
  {
   "id": 0,
   "name": "Generic Transport Node",
   "parentLayerId": -1,
   "defaultVisibility": true,
   "subLayerIds": null,
   "minScale": 50000,
   "maxScale": 0
  },
  {
   "id": 1,
   "name": "Generic Transport Link",
   "parentLayerId": -1,
   "defaultVisibility": true,
   "subLayerIds": null,
   "minScale": 50000,
   "maxScale": 0
  },
  {
   "id": 2,
   "name": "Generic Transport Area",
   "parentLayerId": -1,
   "defaultVisibility": true,
   "subLayerIds": null,
   "minScale": 50000,
   "maxScale": 0
  }
 ],
 "tables": [
  {
   "id": 3,
   "name": "Inspire.DBO.netCrossRef_elmtOS"
  },
  {
   "id": 4,
   "name": "Inspire.DBO.netConnection_elmtOS"
  },
  {
   "id": 5,
   "name": "Inspire.DBO.netNet_elmtsOS"
  },
  {
   "id": 6,
   "name": "Inspire.DBO.netProperty_netRef"
  },
  {
   "id": 7,
   "name": "Inspire.DBO.tnwSepScheme_componentOS"
  },
  {
   "id": 8,
   "name": "Inspire.DBO.adThoroughfName_linkOL"
  },
  {
   "id": 9,
   "name": "Inspire.DBO.netCrossRef_elmtOL"
  },
  {
   "id": 10,
   "name": "Inspire.DBO.netElement_link"
  },
  {
   "id": 11,
   "name": "Inspire.DBO.netCrossing_elmtOL"
  },
  {
   "id": 12,
   "name": "Inspire.DBO.netLinkSet_linkOL"
  },
  {
   "id": 13,
   "name": "Inspire.DBO.netConnection_elmtOL"
  },
  {
   "id": 14,
   "name": "Inspire.DBO.netElementL_name"
  },
  {
   "id": 15,
   "name": "Inspire.DBO.netElementL_hyId"
  },
  {
   "id": 16,
   "name": "Inspire.DBO.netElementL_relHyObj"
  },
  {
   "id": 17,
   "name": "Inspire.DBO.netNet_elmtsOL"
  },
  {
   "id": 18,
   "name": "Inspire.DBO.netCrossRef_elmtOO"
  },
  {
   "id": 19,
   "name": "Inspire.DBO.netLinkSet_linkOO"
  },
  {
   "id": 20,
   "name": "Inspire.DBO.netConnection_elmtOO"
  },
  {
   "id": 21,
   "name": "Inspire.DBO.netConnection_elmtOP"
  },
  {
   "id": 22,
   "name": "Inspire.DBO.netElement_name"
  },
  {
   "id": 23,
   "name": "Inspire.DBO.netElement_hyId"
  },
  {
   "id": 24,
   "name": "Inspire.DBO.netElement_relHyObj"
  },
  {
   "id": 25,
   "name": "Inspire.DBO.netNet_elmtsOO"
  },
  {
   "id": 26,
   "name": "Inspire.DBO.tnwSepScheme_routeOO"
  },
  {
   "id": 27,
   "name": "Inspire.DBO.netElement"
  },
  {
   "id": 28,
   "name": "Inspire.DBO.buiControlTower"
  },
  {
   "id": 29,
   "name": "Inspire.DBO.netCrossRef_elmtOP"
  },
  {
   "id": 30,
   "name": "Inspire.DBO.netElementP_name"
  },
  {
   "id": 31,
   "name": "Inspire.DBO.netElementP_hyId"
  },
  {
   "id": 32,
   "name": "Inspire.DBO.netElementP_relHyObj"
  },
  {
   "id": 33,
   "name": "Inspire.DBO.netNet_elmtsOP"
  },
  {
   "id": 34,
   "name": "Inspire.DBO.tnwSepScheme_beaconOP"
  },
  {
   "id": 35,
   "name": "Inspire.DBO.tnwSepScheme_buoyOP"
  },
  {
   "id": 36,
   "name": "Inspire.DBO.LayerInfo"
  },
  {
   "id": 37,
   "name": "Inspire.DBO.RelationshipInfo"
  },
  {
   "id": 38,
   "name": "Inspire.DBO.SubtypesInfo"
  },
  {
   "id": 39,
   "name": "Inspire.DBO.SpatialObjectTypeInfo"
  },
  {
   "id": 40,
   "name": "Inspire.DBO.A4I_INFO"
  }
 ],
 "spatialReference": {
  "wkid": 4258,
  "latestWkid": 4258
 },
 "singleFusedMapCache": true,
 "tileInfo": {
  "rows": 256,
  "cols": 256,
  "dpi": 96,
  "format": "PNG",
  "compressionQuality": 0,
  "origin": {
   "x": -400,
   "y": 400
  },
  "spatialReference": {
   "wkid": 4258,
   "latestWkid": 4258
  },
  "lods": [
   {
    "level": 0,
    "resolution": 0.023794610058302804,
    "scale": 10000000
   },
   {
    "level": 1,
    "resolution": 0.011897305029151402,
    "scale": 5000000
   },
   {
    "level": 2,
    "resolution": 0.007138383017490841,
    "scale": 3000000
   },
   {
    "level": 3,
    "resolution": 0.00475892201166056,
    "scale": 2000000
   },
   {
    "level": 4,
    "resolution": 0.00237946100583028,
    "scale": 1000000
   },
   {
    "level": 5,
    "resolution": 0.00118973050291514,
    "scale": 500000
   },
   {
    "level": 6,
    "resolution": 5.9486525145757E-4,
    "scale": 250000
   },
   {
    "level": 7,
    "resolution": 2.3794610058302802E-4,
    "scale": 100000
   },
   {
    "level": 8,
    "resolution": 1.1897305029151401E-4,
    "scale": 50000
   },
   {
    "level": 9,
    "resolution": 5.9486525145757005E-5,
    "scale": 25000
   },
   {
    "level": 10,
    "resolution": 2.3794610058302804E-5,
    "scale": 10000
   }
  ]
 },
 "initialExtent": {
  "xmin": 21.06879423486808,
  "ymin": 53.93950896670707,
  "xmax": 26.59388168932034,
  "ymax": 58.375487266239624,
  "spatialReference": {
   "cs": "gcs",
   "wkid": 4258
  }
 },
 "fullExtent": {
  "xmin": 20.55177331581911,
  "ymin": 52.14558006462443,
  "xmax": 27.110902608369305,
  "ymax": 58.30936457789763,
  "spatialReference": {
   "cs": "gcs",
   "wkid": 4258
  }
 },
 "minScale": 0,
 "maxScale": 0,
 "units": "esriDecimalDegrees",
 "supportedImageFormatTypes": "PNG32,PNG24,PNG,JPG,DIB,TIFF,EMF,PS,PDF,GIF,SVG,SVGZ,BMP",
 "documentInfo": {
  "Title": "",
  "Author": "",
  "Comments": "Transport_network",
  "Subject": "Transport_network",
  "Category": "",
  "AntialiasingMode": "None",
  "TextAntialiasingMode": "Force",
  "Keywords": "Transport_network"
 },
 "capabilities": "Map,Query,Data",
 "supportedQueryFormats": "JSON, AMF",
 "exportTilesAllowed": false,
 "maxRecordCount": 1000,
 "maxImageHeight": 4096,
 "maxImageWidth": 4096,
 "supportedExtensions": "InspirePredefinedDatasetDownload, InspireView, WMSServer"
}
